Workbook

Sheet Mileage Log and Reimbursement
A1: 2023 Millard Public Schools Mileage Log and Reimbursement Form
A3: Employee Name | C3: Address | H3: Rate Per Mile | I3: 0.655
A4: Employee ID | C4: City | H4: Month and Year
A5: District Position | C5: State | H5: Total Mileage | I5: =G67 -> 0
A6: Assigned Location | C6: Zip Code | H6: Total Reimbursement | I6: =I67 -> 0
A8: Date | B8: Starting Location | C8: Destination | D8: Description/Reason for Travel | G8: Mileage | H8: Parking Expense | I8: Reimbursement
G9: {=IF(ISNUMBER(SEARCH("/",C9)),IF(C9="",0, INDEX(Log!$A$1:$AN$43,MATCH(B9,Log!$A$1:$A$43,0),MATCH(LEFT(C9,FIND("/",C9&"/")-1),Log!$A$1:$AN$1,0))*2), IF(C9="",0, INDEX(Log!$A$1:$AN$43,MATCH(B9,Log!$A$1:$A$43,0),MATCH(C9,Log!$A$1:$AN$1,0))))} -> 0 | I9: =G9*I3+H9 -> 0
G10: {=IF(ISNUMBER(SEARCH("/",C10)),IF(C10="",0, INDEX(Log!$A$1:$AN$43,MATCH(B10,Log!$A$1:$A$43,0),MATCH(LEFT(C10,FIND("/",C10&"/")-1),Log!$A$1:$AN$1,0))*2), IF(C10="",0, INDEX(Log!$A$1:$AN$43,MATCH(B10,Log!$A$1:$A$43,0),MATCH(C10,Log!$A$1:$AN$1,0))))} -> 0 | I10: =G10*I3+H10 -> 0
G11: {=IF(ISNUMBER(SEARCH("/",C11)),IF(C11="",0, INDEX(Log!$A$1:$AN$43,MATCH(B11,Log!$A$1:$A$43,0),MATCH(LEFT(C11,FIND("/",C11&"/")-1),Log!$A$1:$AN$1,0))*2), IF(C11="",0, INDEX(Log!$A$1:$AN$43,MATCH(B11,Log!$A$1:$A$43,0),MATCH(C11,Log!$A$1:$AN$1,0))))} -> 0 | I11: =G11*I3+H11 -> 0
G12: {=IF(ISNUMBER(SEARCH("/",C12)),IF(C12="",0, INDEX(Log!$A$1:$AN$43,MATCH(B12,Log!$A$1:$A$43,0),MATCH(LEFT(C12,FIND("/",C12&"/")-1),Log!$A$1:$AN$1,0))*2), IF(C12="",0, INDEX(Log!$A$1:$AN$43,MATCH(B12,Log!$A$1:$A$43,0),MATCH(C12,Log!$A$1:$AN$1,0))))} -> 0 | I12: =G12*I3+H12 -> 0
G13: {=IF(ISNUMBER(SEARCH("/",C13)),IF(C13="",0, INDEX(Log!$A$1:$AN$43,MATCH(B13,Log!$A$1:$A$43,0),MATCH(LEFT(C13,FIND("/",C13&"/")-1),Log!$A$1:$AN$1,0))*2), IF(C13="",0, INDEX(Log!$A$1:$AN$43,MATCH(B13,Log!$A$1:$A$43,0),MATCH(C13,Log!$A$1:$AN$1,0))))} -> 0 | I13: =G13*I3+H13 -> 0
G14: {=IF(ISNUMBER(SEARCH("/",C14)),IF(C14="",0, INDEX(Log!$A$1:$AN$43,MATCH(B14,Log!$A$1:$A$43,0),MATCH(LEFT(C14,FIND("/",C14&"/")-1),Log!$A$1:$AN$1,0))*2), IF(C14="",0, INDEX(Log!$A$1:$AN$43,MATCH(B14,Log!$A$1:$A$43,0),MATCH(C14,Log!$A$1:$AN$1,0))))} -> 0 | I14: =G14*I3+H14 -> 0
G15: {=IF(ISNUMBER(SEARCH("/",C15)),IF(C15="",0, INDEX(Log!$A$1:$AN$43,MATCH(B15,Log!$A$1:$A$43,0),MATCH(LEFT(C15,FIND("/",C15&"/")-1),Log!$A$1:$AN$1,0))*2), IF(C15="",0, INDEX(Log!$A$1:$AN$43,MATCH(B15,Log!$A$1:$A$43,0),MATCH(C15,Log!$A$1:$AN$1,0))))} -> 0 | I15: =G15*I3+H15 -> 0
G16: {=IF(ISNUMBER(SEARCH("/",C16)),IF(C16="",0, INDEX(Log!$A$1:$AN$43,MATCH(B16,Log!$A$1:$A$43,0),MATCH(LEFT(C16,FIND("/",C16&"/")-1),Log!$A$1:$AN$1,0))*2), IF(C16="",0, INDEX(Log!$A$1:$AN$43,MATCH(B16,Log!$A$1:$A$43,0),MATCH(C16,Log!$A$1:$AN$1,0))))} -> 0 | I16: =G16*I3+H16 -> 0
G17: {=IF(ISNUMBER(SEARCH("/",C17)),IF(C17="",0, INDEX(Log!$A$1:$AN$43,MATCH(B17,Log!$A$1:$A$43,0),MATCH(LEFT(C17,FIND("/",C17&"/")-1),Log!$A$1:$AN$1,0))*2), IF(C17="",0, INDEX(Log!$A$1:$AN$43,MATCH(B17,Log!$A$1:$A$43,0),MATCH(C17,Log!$A$1:$AN$1,0))))} -> 0 | I17: =G17*I3+H17 -> 0
G18: {=IF(ISNUMBER(SEARCH("/",C18)),IF(C18="",0, INDEX(Log!$A$1:$AN$43,MATCH(B18,Log!$A$1:$A$43,0),MATCH(LEFT(C18,FIND("/",C18&"/")-1),Log!$A$1:$AN$1,0))*2), IF(C18="",0, INDEX(Log!$A$1:$AN$43,MATCH(B18,Log!$A$1:$A$43,0),MATCH(C18,Log!$A$1:$AN$1,0))))} -> 0 | I18: =G18*I3+H18 -> 0
G19: {=IF(ISNUMBER(SEARCH("/",C19)),IF(C19="",0, INDEX(Log!$A$1:$AN$43,MATCH(B19,Log!$A$1:$A$43,0),MATCH(LEFT(C19,FIND("/",C19&"/")-1),Log!$A$1:$AN$1,0))*2), IF(C19="",0, INDEX(Log!$A$1:$AN$43,MATCH(B19,Log!$A$1:$A$43,0),MATCH(C19,Log!$A$1:$AN$1,0))))} -> 0 | I19: =G19*I3+H19 -> 0
G20: {=IF(ISNUMBER(SEARCH("/",C20)),IF(C20="",0, INDEX(Log!$A$1:$AN$43,MATCH(B20,Log!$A$1:$A$43,0),MATCH(LEFT(C20,FIND("/",C20&"/")-1),Log!$A$1:$AN$1,0))*2), IF(C20="",0, INDEX(Log!$A$1:$AN$43,MATCH(B20,Log!$A$1:$A$43,0),MATCH(C20,Log!$A$1:$AN$1,0))))} -> 0 | I20: =G20*I3+H20 -> 0
G21: {=IF(ISNUMBER(SEARCH("/",C21)),IF(C21="",0, INDEX(Log!$A$1:$AN$43,MATCH(B21,Log!$A$1:$A$43,0),MATCH(LEFT(C21,FIND("/",C21&"/")-1),Log!$A$1:$AN$1,0))*2), IF(C21="",0, INDEX(Log!$A$1:$AN$43,MATCH(B21,Log!$A$1:$A$43,0),MATCH(C21,Log!$A$1:$AN$1,0))))} -> 0 | I21: =G21*I3+H21 -> 0
G22: {=IF(ISNUMBER(SEARCH("/",C22)),IF(C22="",0, INDEX(Log!$A$1:$AN$43,MATCH(B22,Log!$A$1:$A$43,0),MATCH(LEFT(C22,FIND("/",C22&"/")-1),Log!$A$1:$AN$1,0))*2), IF(C22="",0, INDEX(Log!$A$1:$AN$43,MATCH(B22,Log!$A$1:$A$43,0),MATCH(C22,Log!$A$1:$AN$1,0))))} -> 0 | I22: =G22*I3+H22 -> 0
G23: {=IF(ISNUMBER(SEARCH("/",C23)),IF(C23="",0, INDEX(Log!$A$1:$AN$43,MATCH(B23,Log!$A$1:$A$43,0),MATCH(LEFT(C23,FIND("/",C23&"/")-1),Log!$A$1:$AN$1,0))*2), IF(C23="",0, INDEX(Log!$A$1:$AN$43,MATCH(B23,Log!$A$1:$A$43,0),MATCH(C23,Log!$A$1:$AN$1,0))))} -> 0 | I23: =G23*I3+H23 -> 0
G24: {=IF(ISNUMBER(SEARCH("/",C24)),IF(C24="",0, INDEX(Log!$A$1:$AN$43,MATCH(B24,Log!$A$1:$A$43,0),MATCH(LEFT(C24,FIND("/",C24&"/")-1),Log!$A$1:$AN$1,0))*2), IF(C24="",0, INDEX(Log!$A$1:$AN$43,MATCH(B24,Log!$A$1:$A$43,0),MATCH(C24,Log!$A$1:$AN$1,0))))} -> 0 | I24: =G24*I3+H24 -> 0
G25: {=IF(ISNUMBER(SEARCH("/",C25)),IF(C25="",0, INDEX(Log!$A$1:$AN$43,MATCH(B25,Log!$A$1:$A$43,0),MATCH(LEFT(C25,FIND("/",C25&"/")-1),Log!$A$1:$AN$1,0))*2), IF(C25="",0, INDEX(Log!$A$1:$AN$43,MATCH(B25,Log!$A$1:$A$43,0),MATCH(C25,Log!$A$1:$AN$1,0))))} -> 0 | I25: =G25*I3+H25 -> 0
G26: {=IF(ISNUMBER(SEARCH("/",C26)),IF(C26="",0, INDEX(Log!$A$1:$AN$43,MATCH(B26,Log!$A$1:$A$43,0),MATCH(LEFT(C26,FIND("/",C26&"/")-1),Log!$A$1:$AN$1,0))*2), IF(C26="",0, INDEX(Log!$A$1:$AN$43,MATCH(B26,Log!$A$1:$A$43,0),MATCH(C26,Log!$A$1:$AN$1,0))))} -> 0 | I26: =G26*I3+H26 -> 0
G27: {=IF(ISNUMBER(SEARCH("/",C27)),IF(C27="",0, INDEX(Log!$A$1:$AN$43,MATCH(B27,Log!$A$1:$A$43,0),MATCH(LEFT(C27,FIND("/",C27&"/")-1),Log!$A$1:$AN$1,0))*2), IF(C27="",0, INDEX(Log!$A$1:$AN$43,MATCH(B27,Log!$A$1:$A$43,0),MATCH(C27,Log!$A$1:$AN$1,0))))} -> 0 | I27: =G27*I3+H27 -> 0
G28: {=IF(ISNUMBER(SEARCH("/",C28)),IF(C28="",0, INDEX(Log!$A$1:$AN$43,MATCH(B28,Log!$A$1:$A$43,0),MATCH(LEFT(C28,FIND("/",C28&"/")-1),Log!$A$1:$AN$1,0))*2), IF(C28="",0, INDEX(Log!$A$1:$AN$43,MATCH(B28,Log!$A$1:$A$43,0),MATCH(C28,Log!$A$1:$AN$1,0))))} -> 0 | I28: =G28*I3+H28 -> 0
G29: {=IF(ISNUMBER(SEARCH("/",C29)),IF(C29="",0, INDEX(Log!$A$1:$AN$43,MATCH(B29,Log!$A$1:$A$43,0),MATCH(LEFT(C29,FIND("/",C29&"/")-1),Log!$A$1:$AN$1,0))*2), IF(C29="",0, INDEX(Log!$A$1:$AN$43,MATCH(B29,Log!$A$1:$A$43,0),MATCH(C29,Log!$A$1:$AN$1,0))))} -> 0 | I29: =G29*I3+H29 -> 0
G30: {=IF(ISNUMBER(SEARCH("/",C30)),IF(C30="",0, INDEX(Log!$A$1:$AN$43,MATCH(B30,Log!$A$1:$A$43,0),MATCH(LEFT(C30,FIND("/",C30&"/")-1),Log!$A$1:$AN$1,0))*2), IF(C30="",0, INDEX(Log!$A$1:$AN$43,MATCH(B30,Log!$A$1:$A$43,0),MATCH(C30,Log!$A$1:$AN$1,0))))} -> 0 | I30: =G30*I3+H30 -> 0
G31: {=IF(ISNUMBER(SEARCH("/",C31)),IF(C31="",0, INDEX(Log!$A$1:$AN$43,MATCH(B31,Log!$A$1:$A$43,0),MATCH(LEFT(C31,FIND("/",C31&"/")-1),Log!$A$1:$AN$1,0))*2), IF(C31="",0, INDEX(Log!$A$1:$AN$43,MATCH(B31,Log!$A$1:$A$43,0),MATCH(C31,Log!$A$1:$AN$1,0))))} -> 0 | I31: =G31*I3+H31 -> 0
G32: {=IF(ISNUMBER(SEARCH("/",C32)),IF(C32="",0, INDEX(Log!$A$1:$AN$43,MATCH(B32,Log!$A$1:$A$43,0),MATCH(LEFT(C32,FIND("/",C32&"/")-1),Log!$A$1:$AN$1,0))*2), IF(C32="",0, INDEX(Log!$A$1:$AN$43,MATCH(B32,Log!$A$1:$A$43,0),MATCH(C32,Log!$A$1:$AN$1,0))))} -> 0 | I32: =G32*I3+H32 -> 0
G33: {=IF(ISNUMBER(SEARCH("/",C33)),IF(C33="",0, INDEX(Log!$A$1:$AN$43,MATCH(B33,Log!$A$1:$A$43,0),MATCH(LEFT(C33,FIND("/",C33&"/")-1),Log!$A$1:$AN$1,0))*2), IF(C33="",0, INDEX(Log!$A$1:$AN$43,MATCH(B33,Log!$A$1:$A$43,0),MATCH(C33,Log!$A$1:$AN$1,0))))} -> 0 | I33: =G33*I3+H33 -> 0
G34: {=IF(ISNUMBER(SEARCH("/",C34)),IF(C34="",0, INDEX(Log!$A$1:$AN$43,MATCH(B34,Log!$A$1:$A$43,0),MATCH(LEFT(C34,FIND("/",C34&"/")-1),Log!$A$1:$AN$1,0))*2), IF(C34="",0, INDEX(Log!$A$1:$AN$43,MATCH(B34,Log!$A$1:$A$43,0),MATCH(C34,Log!$A$1:$AN$1,0))))} -> 0 | I34: =G34*I3+H34 -> 0
G35: {=IF(ISNUMBER(SEARCH("/",C35)),IF(C35="",0, INDEX(Log!$A$1:$AN$43,MATCH(B35,Log!$A$1:$A$43,0),MATCH(LEFT(C35,FIND("/",C35&"/")-1),Log!$A$1:$AN$1,0))*2), IF(C35="",0, INDEX(Log!$A$1:$AN$43,MATCH(B35,Log!$A$1:$A$43,0),MATCH(C35,Log!$A$1:$AN$1,0))))} -> 0 | I35: =G35*I3+H35 -> 0
G36: {=IF(ISNUMBER(SEARCH("/",C36)),IF(C36="",0, INDEX(Log!$A$1:$AN$43,MATCH(B36,Log!$A$1:$A$43,0),MATCH(LEFT(C36,FIND("/",C36&"/")-1),Log!$A$1:$AN$1,0))*2), IF(C36="",0, INDEX(Log!$A$1:$AN$43,MATCH(B36,Log!$A$1:$A$43,0),MATCH(C36,Log!$A$1:$AN$1,0))))} -> 0 | I36: =G36*I3+H36 -> 0
G37: {=IF(ISNUMBER(SEARCH("/",C37)),IF(C37="",0, INDEX(Log!$A$1:$AN$43,MATCH(B37,Log!$A$1:$A$43,0),MATCH(LEFT(C37,FIND("/",C37&"/")-1),Log!$A$1:$AN$1,0))*2), IF(C37="",0, INDEX(Log!$A$1:$AN$43,MATCH(B37,Log!$A$1:$A$43,0),MATCH(C37,Log!$A$1:$AN$1,0))))} -> 0 | I37: =G37*I3+H37 -> 0
G38: {=IF(ISNUMBER(SEARCH("/",C38)),IF(C38="",0, INDEX(Log!$A$1:$AN$43,MATCH(B38,Log!$A$1:$A$43,0),MATCH(LEFT(C38,FIND("/",C38&"/")-1),Log!$A$1:$AN$1,0))*2), IF(C38="",0, INDEX(Log!$A$1:$AN$43,MATCH(B38,Log!$A$1:$A$43,0),MATCH(C38,Log!$A$1:$AN$1,0))))} -> 0 | I38: =G38*I3+H38 -> 0
G39: {=IF(ISNUMBER(SEARCH("/",C39)),IF(C39="",0, INDEX(Log!$A$1:$AN$43,MATCH(B39,Log!$A$1:$A$43,0),MATCH(LEFT(C39,FIND("/",C39&"/")-1),Log!$A$1:$AN$1,0))*2), IF(C39="",0, INDEX(Log!$A$1:$AN$43,MATCH(B39,Log!$A$1:$A$43,0),MATCH(C39,Log!$A$1:$AN$1,0))))} -> 0 | I39: =G39*I3+H39 -> 0
G40: {=IF(ISNUMBER(SEARCH("/",C40)),IF(C40="",0, INDEX(Log!$A$1:$AN$43,MATCH(B40,Log!$A$1:$A$43,0),MATCH(LEFT(C40,FIND("/",C40&"/")-1),Log!$A$1:$AN$1,0))*2), IF(C40="",0, INDEX(Log!$A$1:$AN$43,MATCH(B40,Log!$A$1:$A$43,0),MATCH(C40,Log!$A$1:$AN$1,0))))} -> 0 | I40: =G40*I3+H40 -> 0
G41: {=IF(ISNUMBER(SEARCH("/",C41)),IF(C41="",0, INDEX(Log!$A$1:$AN$43,MATCH(B41,Log!$A$1:$A$43,0),MATCH(LEFT(C41,FIND("/",C41&"/")-1),Log!$A$1:$AN$1,0))*2), IF(C41="",0, INDEX(Log!$A$1:$AN$43,MATCH(B41,Log!$A$1:$A$43,0),MATCH(C41,Log!$A$1:$AN$1,0))))} -> 0 | I41: =G41*I3+H41 -> 0
G42: {=IF(ISNUMBER(SEARCH("/",C42)),IF(C42="",0, INDEX(Log!$A$1:$AN$43,MATCH(B42,Log!$A$1:$A$43,0),MATCH(LEFT(C42,FIND("/",C42&"/")-1),Log!$A$1:$AN$1,0))*2), IF(C42="",0, INDEX(Log!$A$1:$AN$43,MATCH(B42,Log!$A$1:$A$43,0),MATCH(C42,Log!$A$1:$AN$1,0))))} -> 0 | I42: =G42*I3+H42 -> 0
G43: {=IF(ISNUMBER(SEARCH("/",C43)),IF(C43="",0, INDEX(Log!$A$1:$AN$43,MATCH(B43,Log!$A$1:$A$43,0),MATCH(LEFT(C43,FIND("/",C43&"/")-1),Log!$A$1:$AN$1,0))*2), IF(C43="",0, INDEX(Log!$A$1:$AN$43,MATCH(B43,Log!$A$1:$A$43,0),MATCH(C43,Log!$A$1:$AN$1,0))))} -> 0 | I43: =G43*I3+H43 -> 0
G44: {=IF(ISNUMBER(SEARCH("/",C44)),IF(C44="",0, INDEX(Log!$A$1:$AN$43,MATCH(B44,Log!$A$1:$A$43,0),MATCH(LEFT(C44,FIND("/",C44&"/")-1),Log!$A$1:$AN$1,0))*2), IF(C44="",0, INDEX(Log!$A$1:$AN$43,MATCH(B44,Log!$A$1:$A$43,0),MATCH(C44,Log!$A$1:$AN$1,0))))} -> 0 | I44: =G44*I3+H44 -> 0
G45: {=IF(ISNUMBER(SEARCH("/",C45)),IF(C45="",0, INDEX(Log!$A$1:$AN$43,MATCH(B45,Log!$A$1:$A$43,0),MATCH(LEFT(C45,FIND("/",C45&"/")-1),Log!$A$1:$AN$1,0))*2), IF(C45="",0, INDEX(Log!$A$1:$AN$43,MATCH(B45,Log!$A$1:$A$43,0),MATCH(C45,Log!$A$1:$AN$1,0))))} -> 0 | I45: =G45*I3+H45 -> 0
G46: {=IF(ISNUMBER(SEARCH("/",C46)),IF(C46="",0, INDEX(Log!$A$1:$AN$43,MATCH(B46,Log!$A$1:$A$43,0),MATCH(LEFT(C46,FIND("/",C46&"/")-1),Log!$A$1:$AN$1,0))*2), IF(C46="",0, INDEX(Log!$A$1:$AN$43,MATCH(B46,Log!$A$1:$A$43,0),MATCH(C46,Log!$A$1:$AN$1,0))))} -> 0 | I46: =G46*I3+H46 -> 0
G47: {=IF(ISNUMBER(SEARCH("/",C47)),IF(C47="",0, INDEX(Log!$A$1:$AN$43,MATCH(B47,Log!$A$1:$A$43,0),MATCH(LEFT(C47,FIND("/",C47&"/")-1),Log!$A$1:$AN$1,0))*2), IF(C47="",0, INDEX(Log!$A$1:$AN$43,MATCH(B47,Log!$A$1:$A$43,0),MATCH(C47,Log!$A$1:$AN$1,0))))} -> 0 | I47: =G47*I3+H47 -> 0
G48: {=IF(ISNUMBER(SEARCH("/",C48)),IF(C48="",0, INDEX(Log!$A$1:$AN$43,MATCH(B48,Log!$A$1:$A$43,0),MATCH(LEFT(C48,FIND("/",C48&"/")-1),Log!$A$1:$AN$1,0))*2), IF(C48="",0, INDEX(Log!$A$1:$AN$43,MATCH(B48,Log!$A$1:$A$43,0),MATCH(C48,Log!$A$1:$AN$1,0))))} -> 0 | I48: =G48*I3+H48 -> 0
G49: {=IF(ISNUMBER(SEARCH("/",C49)),IF(C49="",0, INDEX(Log!$A$1:$AN$43,MATCH(B49,Log!$A$1:$A$43,0),MATCH(LEFT(C49,FIND("/",C49&"/")-1),Log!$A$1:$AN$1,0))*2), IF(C49="",0, INDEX(Log!$A$1:$AN$43,MATCH(B49,Log!$A$1:$A$43,0),MATCH(C49,Log!$A$1:$AN$1,0))))} -> 0 | I49: =G49*I3+H49 -> 0
G50: {=IF(ISNUMBER(SEARCH("/",C50)),IF(C50="",0, INDEX(Log!$A$1:$AN$43,MATCH(B50,Log!$A$1:$A$43,0),MATCH(LEFT(C50,FIND("/",C50&"/")-1),Log!$A$1:$AN$1,0))*2), IF(C50="",0, INDEX(Log!$A$1:$AN$43,MATCH(B50,Log!$A$1:$A$43,0),MATCH(C50,Log!$A$1:$AN$1,0))))} -> 0 | I50: =G50*I3+H50 -> 0
G51: {=IF(ISNUMBER(SEARCH("/",C51)),IF(C51="",0, INDEX(Log!$A$1:$AN$43,MATCH(B51,Log!$A$1:$A$43,0),MATCH(LEFT(C51,FIND("/",C51&"/")-1),Log!$A$1:$AN$1,0))*2), IF(C51="",0, INDEX(Log!$A$1:$AN$43,MATCH(B51,Log!$A$1:$A$43,0),MATCH(C51,Log!$A$1:$AN$1,0))))} -> 0 | I51: =G51*I3+H51 -> 0
G52: {=IF(ISNUMBER(SEARCH("/",C52)),IF(C52="",0, INDEX(Log!$A$1:$AN$43,MATCH(B52,Log!$A$1:$A$43,0),MATCH(LEFT(C52,FIND("/",C52&"/")-1),Log!$A$1:$AN$1,0))*2), IF(C52="",0, INDEX(Log!$A$1:$AN$43,MATCH(B52,Log!$A$1:$A$43,0),MATCH(C52,Log!$A$1:$AN$1,0))))} -> 0 | I52: =G52*I3+H52 -> 0
G53: {=IF(ISNUMBER(SEARCH("/",C53)),IF(C53="",0, INDEX(Log!$A$1:$AN$43,MATCH(B53,Log!$A$1:$A$43,0),MATCH(LEFT(C53,FIND("/",C53&"/")-1),Log!$A$1:$AN$1,0))*2), IF(C53="",0, INDEX(Log!$A$1:$AN$43,MATCH(B53,Log!$A$1:$A$43,0),MATCH(C53,Log!$A$1:$AN$1,0))))} -> 0 | I53: =G53*I3+H53 -> 0
G54: {=IF(ISNUMBER(SEARCH("/",C54)),IF(C54="",0, INDEX(Log!$A$1:$AN$43,MATCH(B54,Log!$A$1:$A$43,0),MATCH(LEFT(C54,FIND("/",C54&"/")-1),Log!$A$1:$AN$1,0))*2), IF(C54="",0, INDEX(Log!$A$1:$AN$43,MATCH(B54,Log!$A$1:$A$43,0),MATCH(C54,Log!$A$1:$AN$1,0))))} -> 0 | I54: =G54*I3+H54 -> 0
G55: {=IF(ISNUMBER(SEARCH("/",C55)),IF(C55="",0, INDEX(Log!$A$1:$AN$43,MATCH(B55,Log!$A$1:$A$43,0),MATCH(LEFT(C55,FIND("/",C55&"/")-1),Log!$A$1:$AN$1,0))*2), IF(C55="",0, INDEX(Log!$A$1:$AN$43,MATCH(B55,Log!$A$1:$A$43,0),MATCH(C55,Log!$A$1:$AN$1,0))))} -> 0 | I55: =G55*I3+H55 -> 0
G56: {=IF(ISNUMBER(SEARCH("/",C56)),IF(C56="",0, INDEX(Log!$A$1:$AN$43,MATCH(B56,Log!$A$1:$A$43,0),MATCH(LEFT(C56,FIND("/",C56&"/")-1),Log!$A$1:$AN$1,0))*2), IF(C56="",0, INDEX(Log!$A$1:$AN$43,MATCH(B56,Log!$A$1:$A$43,0),MATCH(C56,Log!$A$1:$AN$1,0))))} -> 0 | I56: =G56*I3+H56 -> 0
G57: {=IF(ISNUMBER(SEARCH("/",C57)),IF(C57="",0, INDEX(Log!$A$1:$AN$43,MATCH(B57,Log!$A$1:$A$43,0),MATCH(LEFT(C57,FIND("/",C57&"/")-1),Log!$A$1:$AN$1,0))*2), IF(C57="",0, INDEX(Log!$A$1:$AN$43,MATCH(B57,Log!$A$1:$A$43,0),MATCH(C57,Log!$A$1:$AN$1,0))))} -> 0 | I57: =G57*I3+H57 -> 0
G58: {=IF(ISNUMBER(SEARCH("/",C58)),IF(C58="",0, INDEX(Log!$A$1:$AN$43,MATCH(B58,Log!$A$1:$A$43,0),MATCH(LEFT(C58,FIND("/",C58&"/")-1),Log!$A$1:$AN$1,0))*2), IF(C58="",0, INDEX(Log!$A$1:$AN$43,MATCH(B58,Log!$A$1:$A$43,0),MATCH(C58,Log!$A$1:$AN$1,0))))} -> 0 | I58: =G58*I3+H58 -> 0
G59: {=IF(ISNUMBER(SEARCH("/",C59)),IF(C59="",0, INDEX(Log!$A$1:$AN$43,MATCH(B59,Log!$A$1:$A$43,0),MATCH(LEFT(C59,FIND("/",C59&"/")-1),Log!$A$1:$AN$1,0))*2), IF(C59="",0, INDEX(Log!$A$1:$AN$43,MATCH(B59,Log!$A$1:$A$43,0),MATCH(C59,Log!$A$1:$AN$1,0))))} -> 0 | I59: =G59*I3+H59 -> 0
G60: {=IF(ISNUMBER(SEARCH("/",C60)),IF(C60="",0, INDEX(Log!$A$1:$AN$43,MATCH(B60,Log!$A$1:$A$43,0),MATCH(LEFT(C60,FIND("/",C60&"/")-1),Log!$A$1:$AN$1,0))*2), IF(C60="",0, INDEX(Log!$A$1:$AN$43,MATCH(B60,Log!$A$1:$A$43,0),MATCH(C60,Log!$A$1:$AN$1,0))))} -> 0 | I60: =G60*I3+H60 -> 0
G61: {=IF(ISNUMBER(SEARCH("/",C61)),IF(C61="",0, INDEX(Log!$A$1:$AN$43,MATCH(B61,Log!$A$1:$A$43,0),MATCH(LEFT(C61,FIND("/",C61&"/")-1),Log!$A$1:$AN$1,0))*2), IF(C61="",0, INDEX(Log!$A$1:$AN$43,MATCH(B61,Log!$A$1:$A$43,0),MATCH(C61,Log!$A$1:$AN$1,0))))} -> 0 | I61: =G61*I3+H61 -> 0
G62: {=IF(ISNUMBER(SEARCH("/",C62)),IF(C62="",0, INDEX(Log!$A$1:$AN$43,MATCH(B62,Log!$A$1:$A$43,0),MATCH(LEFT(C62,FIND("/",C62&"/")-1),Log!$A$1:$AN$1,0))*2), IF(C62="",0, INDEX(Log!$A$1:$AN$43,MATCH(B62,Log!$A$1:$A$43,0),MATCH(C62,Log!$A$1:$AN$1,0))))} -> 0 | I62: =G62*I3+H62 -> 0
G63: {=IF(ISNUMBER(SEARCH("/",C63)),IF(C63="",0, INDEX(Log!$A$1:$AN$43,MATCH(B63,Log!$A$1:$A$43,0),MATCH(LEFT(C63,FIND("/",C63&"/")-1),Log!$A$1:$AN$1,0))*2), IF(C63="",0, INDEX(Log!$A$1:$AN$43,MATCH(B63,Log!$A$1:$A$43,0),MATCH(C63,Log!$A$1:$AN$1,0))))} -> 0 | I63: =G63*I3+H63 -> 0
G64: {=IF(ISNUMBER(SEARCH("/",C64)),IF(C64="",0, INDEX(Log!$A$1:$AN$43,MATCH(B64,Log!$A$1:$A$43,0),MATCH(LEFT(C64,FIND("/",C64&"/")-1),Log!$A$1:$AN$1,0))*2), IF(C64="",0, INDEX(Log!$A$1:$AN$43,MATCH(B64,Log!$A$1:$A$43,0),MATCH(C64,Log!$A$1:$AN$1,0))))} -> 0 | I64: =G64*I3+H64 -> 0
G65: {=IF(ISNUMBER(SEARCH("/",C65)),IF(C65="",0, INDEX(Log!$A$1:$AN$43,MATCH(B65,Log!$A$1:$A$43,0),MATCH(LEFT(C65,FIND("/",C65&"/")-1),Log!$A$1:$AN$1,0))*2), IF(C65="",0, INDEX(Log!$A$1:$AN$43,MATCH(B65,Log!$A$1:$A$43,0),MATCH(C65,Log!$A$1:$AN$1,0))))} -> 0 | I65: =G65*I3+H65 -> 0
G66: {=IF(ISNUMBER(SEARCH("/",C66)),IF(C66="",0, INDEX(Log!$A$1:$AN$43,MATCH(B66,Log!$A$1:$A$43,0),MATCH(LEFT(C66,FIND("/",C66&"/")-1),Log!$A$1:$AN$1,0))*2), IF(C66="",0, INDEX(Log!$A$1:$AN$43,MATCH(B66,Log!$A$1:$A$43,0),MATCH(C66,Log!$A$1:$AN$1,0))))} -> 0 | I66: =G66*I3+H66 -> 0
F67: Totals | G67: =SUM(G9:G66) -> 0 | H67: =SUM(H9:H66) -> 0 | I67: =SUM(I9:I66) -> 0
A70: Employee Signature Date | F70: Supervisor Signature | I70: Date
A73: Budget Code | F73: Chief Financial Officer | I73: Date

Sheet Log
B1: DSAC | C1: SSC | D1: RWSSC | E1: AMS | F1: BMS | G1: CMS | H1: KMS | I1: NMS | J1: RMS | K1: MHHS | L1: MNHS | M1: MSHS | N1: MWHS | O1: Abbott | P1: Ackerman | Q1: Aldrich | R1: Black Elk | S1: Bryan | T1: Cather | U1: Cody | V1: Cottonwood | W1: Disney | X1: Ezra Millard | Y1: Harvey Oaks | Z1: Hitchcock | AA1: Holling Heights | AB1: Montclair | AC1: Morton | AD1: Neihardt | AE1: Norris | AF1: Reagan | AG1: Reeder | AH1: Rockwell | AI1: Rohwer | AJ1: Sandoz | AK1: Upchurch | AL1: Wheeler | AM1: Willowdale | AN1: ESU3
A2: DSAC | B2: 0 | C2: 2.3 | D2: 2 | E2: 1.1 | F2: 3.8 | G2: 2.1 | H2: 4.9 | I2: 2.9 | J2: 2.4 | K2: 5.6 | L2: 3.7 | M2: 0.3 | N2: 3 | O2: 6.5 | P2: 1.3 | Q2: 6.1 | R2: 2.4 | S2: 0.7 | T2: 3 | U2: 3.1 | V2: 4.6 | W2: 3.4 | X2: 5.7 | Y2: 3.4 | Z2: 4.1 | AA2: 1.4 | AB2: 3.2 | AC2: 3.9 | AD2: 1 | AE2: 2.1 | AF2: 7.1 | AG2: 5.5 | AH2: 0.9 | AI2: 4.2 | AJ2: 2.5 | AK2: 3.92 | AL2: 3.9 | AM2: 2.2 | AN2: 4
A3: SSC | B3: 2.3 | C3: 0 | D3: 0.5 | E3: 3.8 | F3: 6.4 | G3: 1.5 | H3: 4.1 | I3: 2 | J3: 4.3 | K3: 8.5 | L3: 2.8 | M3: 2.2 | N3: 5.1 | O3: 5.2 | P3: 3.1 | Q3: 5.2 | R3: 4.1 | S3: 1.6 | T3: 1.9 | U3: 1.5 | V3: 3.8 | W3: 3.4 | X3: 4.8 | Y3: 2.5 | Z3: 4 | AA3: 2.4 | AB3: 2.2 | AC3: 3 | AD3: 3.3 | AE3: 2 | AF3: 8.3 | AG3: 7.4 | AH3: 2.3 | AI3: 5.4 | AJ3: 2.6 | AK3: 5.87 | AL3: 5.6 | AM3: 4.3 | AN3: 3.9
A4: RWSSC | B4: 2 | C4: 0.5 | D4: 0 | E4: 3.4 | F4: 6 | G4: 1.1 | H4: 4.7 | I4: 1.7 | J4: 4.1 | K4: 8.7 | L4: 2.7 | M4: 1.8 | N4: 4.5 | O4: 5 | P4: 2.8 | Q4: 5.4 | R4: 3.8 | S4: 1.2 | T4: 2.2 | U4: 1.8 | V4: 3.9 | W4: 3.5 | X4: 4.8 | Y4: 2.7 | Z4: 4 | AA4: 2 | AB4: 2.3 | AC4: 2.9 | AD4: 3.1 | AE4: 2.3 | AF4: 7.8 | AG4: 7 | AH4: 1.9 | AI4: 5.3 | AJ4: 2.3 | AK4: 6.1 | AL4: 5.9 | AM4: 3.9 | AN4: 3.3
A5: AMS | B5: 1.1 | C5: 3.8 | D5: 3.4 | E5: 0 | F5: 2.6 | G5: 3.6 | H5: 5.1 | I5: 4.4 | J5: 2.3 | K5: 5.5 | L5: 5 | M5: 1.3 | N5: 2.9 | O5: 4.7 | P5: 1.1 | Q5: 7.6 | R5: 1 | S5: 2.2 | T5: 4.5 | U5: 4.6 | V5: 5.1 | W5: 5 | X5: 7.1 | Y5: 4.2 | Z5: 5.5 | AA5: 2.3 | AB5: 4.7 | AC5: 3.9 | AD5: 0.5 | AE5: 3.6 | AF5: 7.5 | AG5: 3.9 | AH5: 2 | AI5: 4 | AJ5: 3.9 | AK5: 2.44 | AL5: 2.5 | AM5: 2 | AN5: 4.5
A6: BMS | B6: 3.8 | C6: 6.4 | D6: 6 | E6: 2.6 | F6: 0 | G6: 5.5 | H6: 6.3 | I6: 6.4 | J6: 1.5 | K6: 3.4 | L6: 6.9 | M6: 3.5 | N6: 0.5 | O6: 5.8 | P6: 3 | Q6: 7.5 | R6: 1.9 | S6: 4.1 | T6: 6.5 | U6: 6.5 | V6: 6.3 | W6: 6.7 | X6: 9 | Y6: 5.9 | Z6: 7.2 | AA6: 3.9 | AB6: 6.6 | AC6: 4.9 | AD6: 2.6 | AE6: 5.5 | AF6: 4.9 | AG6: 1.6 | AH6: 3.7 | AI6: 1.9 | AJ6: 5.8 | AK6: 2.5 | AL6: 0.3 | AM6: 1.8 | AN6: 6.3
A7: CMS | B7: 2.1 | C7: 1.5 | D7: 1.1 | E7: 3.6 | F7: 5.5 | G7: 0 | H7: 5 | I7: 2.5 | J7: 4.1 | K7: 9.6 | L7: 3.6 | M7: 2 | N7: 4.9 | O7: 4.8 | P7: 2.9 | Q7: 6.3 | R7: 3.9 | S7: 1.7 | T7: 2.4 | U7: 2.1 | V7: 4.8 | W7: 2.1 | X7: 5.8 | Y7: 3.6 | Z7: 2.8 | AA7: 2.2 | AB7: 2.7 | AC7: 4 | AD7: 2.8 | AE7: 0.8 | AF7: 7.1 | AG7: 6.9 | AH7: 2.1 | AI7: 6.1 | AJ7: 1.2 | AK7: 5.4 | AL7: 5.4 | AM7: 3.8 | AN7: 3
A8: KMS | B8: 4.9 | C8: 4.1 | D8: 4.7 | E8: 5.1 | F8: 6.3 | G8: 5 | H8: 0 | I8: 3 | J8: 6.1 | K8: 9.1 | L8: 1.6 | M8: 4.7 | N8: 6.1 | O8: 0.8 | P8: 4 | Q8: 1.3 | R8: 5.7 | S8: 4.1 | T8: 3.2 | U8: 4.3 | V8: 0.5 | W8: 6.9 | X8: 2.8 | Y8: 2 | Z8: 7.5 | AA8: 6.2 | AB8: 2.7 | AC8: 1.8 | AD8: 5.7 | AE8: 6.2 | AF8: 4.6 | AG8: 8 | AH8: 5.5 | AI8: 4.7 | AJ8: 6.3 | AK8: 8.47 | AL8: 6.5 | AM8: 4.4 | AN8: 7.6
A9: NMS | B9: 2.9 | C9: 2 | D9: 1.7 | E9: 4.4 | F9: 6.4 | G9: 2.5 | H9: 3 | I9: 0 | J9: 4.9 | K9: 8.1 | L9: 1.6 | M9: 2.8 | N9: 6.1 | O9: 3.1 | P9: 3.3 | Q9: 4.3 | R9: 5 | S9: 2.2 | T9: 0.1 | U9: 1.2 | V9: 2.8 | W9: 4.5 | X9: 3.8 | Y9: 1.8 | Z9: 5 | AA9: 3.8 | AB9: 0.3 | AC9: 2.5 | AD9: 4.2 | AE9: 3 | AF9: 5.9 | AG9: 8 | AH9: 3.5 | AI9: 4.7 | AJ9: 3.7 | AK9: 6.55 | AL9: 6.8 | AM9: 4.7 | AN9: 4.8
A10: RMS | B10: 2.4 | C10: 4.3 | D10: 4.1 | E10: 2.3 | F10: 1.5 | G10: 4.1 | H10: 6.1 | I10: 4.9 | J10: 0 | K10: 3.3 | L10: 5.5 | M10: 2.1 | N10: 0.8 | O10: 5.7 | P10: 1.6 | Q10: 7.4 | R10: 2.1 | S10: 2.7 | T10: 5 | U10: 5.1 | V10: 6.3 | W10: 5.4 | X10: 7.7 | Y10: 4.5 | Z10: 6.1 | AA10: 4 | AB10: 5.2 | AC10: 3.5 | AD10: 2.9 | AE10: 4.1 | AF10: 4.8 | AG10: 3.2 | AH10: 3.9 | AI10: 1.9 | AJ10: 4.4 | AK10: 2.36 | AL10: 2 | AM10: 0.4 | AN10: 5.8
A11: MHHS | B11: 5.6 | C11: 8.5 | D11: 8.7 | E11: 5.5 | F11: 3.4 | G11: 9.6 | H11: 9.1 | I11: 8.1 | J11: 3.3 | K11: 0 | L11: 8.6 | M11: 5.2 | N11: 3.1 | O11: 9.1 | P11: 6.5 | Q11: 9.3 | R11: 5.3 | S11: 8.7 | T11: 8.2 | U11: 9.3 | V11: 9.1 | W11: 8.7 | X11: 10.8 | Y11: 7.4 | Z11: 10.7 | AA11: 7.7 | AB11: 8.3 | AC11: 6.7 | AD11: 6 | AE11: 7.2 | AF11: 1.8 | AG11: 3 | AH11: 7.1 | AI11: 3.7 | AJ11: 7.8 | AK11: 6.1 | AL11: 3.7 | AM11: 3.5 | AN11: 8.9
A12: MNHS | B12: 3.7 | C12: 2.8 | D12: 2.7 | E12: 5 | F12: 6.9 | G12: 3.6 | H12: 1.6 | I12: 1.6 | J12: 5.5 | K12: 8.6 | L12: 0 | M12: 3.3 | N12: 6.1 | O12: 1.3 | P12: 4.3 | Q12: 2.6 | R12: 5.6 | S12: 2.7 | T12: 1.8 | U12: 2.9 | V12: 1.3 | W12: 5.7 | X12: 2.2 | Y12: 1.5 | Z12: 6.1 | AA12: 4.9 | AB12: 1.9 | AC12: 3 | AD12: 4.5 | AE12: 4.9 | AF12: 5.2 | AG12: 8.5 | AH12: 4.1 | AI12: 5.3 | AJ12: 5.2 | AK12: 7.7 | AL12: 7.1 | AM12: 5.2 | AN12: 6.1
A13: MSHS | B13: 0.3 | C13: 2.2 | D13: 1.8 | E13: 1.3 | F13: 3.5 | G13: 2 | H13: 4.7 | I13: 2.8 | J13: 2.1 | K13: 5.2 | L13: 3.3 | M13: 0 | N13: 2.7 | O13: 5.9 | P13: 0.9 | Q13: 6 | R13: 2.2 | S13: 0.6 | T13: 2.9 | U13: 3 | V13: 4.5 | W13: 3.3 | X13: 5.5 | Y13: 3.3 | Z13: 4 | AA13: 1.9 | AB13: 3.1 | AC13: 3.7 | AD13: 1.5 | AE13: 2 | AF13: 6.6 | AG13: 5.2 | AH13: 1.3 | AI13: 3.9 | AJ13: 2.3 | AK13: 3.68 | AL13: 3.7 | AM13: 1.9 | AN13: 3.8
... A40: ESU3 | B40: 4 | C40: 3.9 | D40: 3.3 | E40: 4.5 | F40: 6.3 | G40: 3 | H40: 7.6 | I40: 4.8 | J40: 5.8 | K40: 8.9 | L40: 6.1 | M40: 3.8 | N40: 6.7 | O40: 12.3 | P40: 4.5 | Q40: 12.6 | R40: 4.5 | S40: 3.6 | T40: 4.7 | U40: 4.5 | V40: 7.6 | W40: 1.1 | X40: 11.7 | Y40: 6 | Z40: 1.9 | AA40: 2.8 | AB40: 5.3 | AC40: 6.4 | AD40: 3.8 | AE40: 2.9 | AF40: 8.8 | AG40: 7.5 | AH40: 3.1 | AI40: 7.6 | AJ40: 1.7 | AK40: 5.9 | AL40: 5.9 | AM40: 5.6 | AN40: 0

Sheet Instructions
A1: Mileage Reimbursement Form Instructions
A4: This mileage form will automatically populate the mileage for you from one MPS location to another.
A6: Please download the form so that it is in Excel format rather than Google sheets in order for it to calculate and print correctly.
A8: Use the dropdown menu in the "Starting Location" and "Destination" fields to choose your location.
A10: To calculate round trip you can use a forward slash "/". For example DSAC to RWSSC back to DSAC would look like this:
A11: Starting location: DSAC Destination: RWSSC/DSAC
A13: To travel to a location outside of the district you will have to type the location. This will give you a #N/A in the "Mileage" field. Simply type the miles over that.
A15: Please print as portrait, not landscape.
A17: If you have questions please call DeeDee 715-8211

Sheet Sheet1
A2: DSAC
A3: SSC
A4: RWSSC
A5: AMS
A6: BMS
A7: CMS
A8: KMS
A9: NMS
A10: RMS
A11: MHHS
A12: MNHS
A13: MSHS
... A40: Voc Center
