Workbook
Name Degree: SalaryCheckHome!$E$16:$E$19

Sheet SalaryCheckHome
B1: This sheet is intended to assist you in estimating your salary. For more specific questions or if you suspect an error in this estimate, please e-mail millardhumanresources@mpsomaha.org and we will respond in the order the questions are received.
B3: Please input information in every highlighted box. | F3: If you need to look up your information, click here to visit the Employee Access Center
F4: (once logged in, select "Personal Information," then "Demographic Information" and "Education" on the left side of tool bar)
B5: STEP #1 - Base Raise for 2026-27
B7: Current 2025-26 Base Salary: | C7: 52510 | F7: Year Originally Hired as Teacher at MPS | G7: 2021-22 Or Prior
B8: (from Employee Access Center)
B9: (do not include extra duties, or any other extra payments in this box)
B11: Years of Service at Millard | C11: 2 | F11: Years of Teaching Experience outside Millard | G11: 0
B12: (include the 2026-27 year) | F12: (take Total Years minus Years in District)
B13: (from Employee Access Center) | F13: (from Employee Access Center)
B16: Degree for Salary | C16: MA | E16: BA | F16: Grad Credit Hours Recognized For Salary | G16: 0
B17: (from Employee Access Center) | E17: MA | F17: (from Employee Access Center)
E18: EDSpec
B19: Full Time Equivalency (f.t.e.) | C19: 1 | E19: Doc | F19: Extra Contract Days (Subtract 192 from contract days) | G19: 0
B22: 2026-27 Estimated Salary | C22: {=_xlfn.IFS(G7="2025-26", Sheet5!L23, G7="2024-25", Sheet4!L23, G7="2023-24", Sheet3!L23, G7="2022-23", Sheet2!L23, G7="2021-22 Or Prior", Sheet1!L23)} -> 54392 | F22: 2026-27 Percentage Increase | G22: =(C22/(C7))-1 -> 0.035840792
B27: STEP #2 - OPTIONAL - are you getting new graduate credit hours for 2026-27?
B29: (if yes, please enter the highlighted fields only)
B31: 2025-26 Salary Prior to New Hours: | C31: =C22 -> 54392 | F31: Year Originally Hired as Teacher at MPS | G31: =G7 -> 2021-22 Or Prior
B32: (do not include extra duties, or any other extra payments in this box)
B34: Years of Service at Millard | C34: =C11 -> 2 | F34: Years of Teaching Experience outside Millard | G34: =G11 -> 0
B35: =B12 -> (include the 2026-27 year) | F35: (take Total Years minus years in District)
B36: (from Employee Access Center) | F36: (from Employee Access Center)
B38: In all salary ranges, additional credit hours added during the 2026-27 and subsequent school years will only be calculated/credited at intervals of 9, 18, 27, 36, or 39 hours. Only 18 Hours will be recognized for salary advancement per year.
B40: Highest Degree | C40: MA | E40: BA | F40: Total Graduate Credit Hours Submitted for Salary Advancement | G40: 0
B41: (after accounting for anticipated new hours) | E41: MA | F41: (after accounting for all current and anticipated new hours)
F43: Additional Graduate Credit Hours Recognized for Salary Advancement Based on Recognized Interval or Existing Grad Hours Recognized for Salary | G43: {=_xlfn.IFS(G7="2025-26", Sheet4!V33, G7="2023-24", Sheet3!V33, G7="2022-23", Sheet2!V33, G7="2021-22 Or Prior", Sheet1!V33)} -> 0
E44: EDSpec
B45: Full Time Equivalency (f.t.e.) | C45: =C19 -> 1 | E45: Doc | F45: =F19 -> Extra Contract Days (Subtract 192 from contract days) | G45: =G19 -> 0
B48: =B22 -> 2026-27 Estimated Salary | C48: {=_xlfn.IFS(G7="2025-26", Sheet5!L44, G7="2024-25", Sheet4!L44, G7="2023-24", Sheet3!L44, G7="2022-23", Sheet2!L44, G7="2021-22 Or Prior", Sheet1!L44)} -> 54392 | F48: =F22 -> 2026-27 Percentage Increase | G48: =(C48/(C31))-1 -> 0

Sheet FORMULA
A1: Teacher Formula Factors for 26-27 School Year
A2: 26-27 School Year | B2: Base Pay | C2: Year of Exp Pay | D2: Max Years | E2: Max Outside Pre 22-23 | F2: Max Outside 22-23 | G2: Max Outside 23-24 | H2: Max Outside 24-25 | I2: Max Outside 25-26 | J2: Max Outside 26-27 | L2: Credit Hour | M2: Max Hours | N2: New Total Year 1 Pay
A3: BA | B3: 44550 | C3: 465 | D3: 8 | E3: 8 | F3: 8 | G3: 8 | H3: 8 | I3: 8 | J3: 8 | L3: 195 | M3: 39 | N3: 45015
A4: MA | B4: 52310 | C4: 1041 | D4: 25 | E4: 13 | F4: 14 | G4: 15 | H4: 16 | I4: 17 | J4: 17 | L4: 290 | M4: 39 | N4: 53351
A5: EDS | B5: 63115 | C5: 1061 | D5: 25 | E5: 13 | F5: 14 | G5: 15 | H5: 16 | I5: 17 | J5: 17 | L5: 290 | M5: 3 | N5: 64176
A6: Doc | B6: 63115 | C6: 1081 | D6: 25 | E6: 13 | F6: 14 | G6: 15 | H6: 16 | I6: 17 | J6: 17 | L6: 290 | M6: 3 | N6: 64196

Sheet Sheet1
K1: Year Hired as Teacher at MPS | L1: 2025-26
L2: 2024-25
L3: 2023-24
B4: Year Hired as Teacher at MPS BEFORE 2022-23 School Year (LIMIT OUTSIDE YEARS) | L4: 2022-23
C5: =C8 -> 45015 | D5: 47280 | E5: 57200 | F5: 57220 | L5: 2021-22 Or Prior
C6: BA | D6: MA | E6: EDSpec | F6: Doc | L6: 2026-27 Salary | M6: BA | N6: MA | O6: EDSpec | P6: Doc | Q6: Maximum | R6: Hours Submitted | S6: Max hours recognized for grad hours per school year | T6: 18
B7: Base Pay | C7: =FORMULA!B3 -> 44550 | D7: =FORMULA!B4 -> 52310 | E7: =FORMULA!B5 -> 63115 | F7: =FORMULA!B6 -> 63115 | K7: Base | L7: =MAX(M7:P8) -> 52310 | M7: =IF(SalaryCheckHome!$C$16="BA",C7,0) -> 0 | N7: =IF(SalaryCheckHome!$C$16="MA",D7,0) -> 52310 | O7: =IF(SalaryCheckHome!$C$16="EDSpec",E7,0) -> 0 | P7: =IF(SalaryCheckHome!$C$16="Doc",F7,0) -> 0
B8: Pay With One Year | C8: =C7+C9 -> 45015 | D8: =D7+D9 -> 53351 | E8: =E7+E9 -> 64176 | F8: =F7+F9 -> 64196 | K8: Degree Year of Service Value | L8: =MAX(M8:P9) -> 1041 | M8: =IF(SalaryCheckHome!$C$16="BA",C9,0) -> 0 | N8: =IF(SalaryCheckHome!$C$16="MA",D9,0) -> 1041 | O8: =IF(SalaryCheckHome!$C$16="EDSpec",E9,0) -> 0 | P8: =IF(SalaryCheckHome!$C$16="Doc",F9,0) -> 0
B9: Per Year | C9: =FORMULA!C3 -> 465 | D9: =FORMULA!C4 -> 1041 | E9: =FORMULA!C5 -> 1061 | F9: =FORMULA!C6 -> 1081 | K9: Outside Years (subject to Maximum) | L9: =MIN(Q9:R9) -> 0 | M9: =IF(SalaryCheckHome!$C$16="BA",C10,0) -> 0 | N9: =IF(SalaryCheckHome!$C$16="MA",D10,0) -> 13 | O9: =IF(SalaryCheckHome!$C$16="EDSpec",E10,0) -> 0 | P9: =IF(SalaryCheckHome!$C$16="Doc",F10,0) -> 0 | Q9: =MAX(M9:P9) -> 13 | R9: =SalaryCheckHome!G11 -> 0
B10: Max. outside years | C10: 8 | D10: 13 | E10: 13 | F10: 13 | K10: Total Years (subject to maximum) | L10: =MIN(Q10:R10) -> 2 | M10: =IF(SalaryCheckHome!$C$16="BA",C11,0) -> 0 | N10: =IF(SalaryCheckHome!$C$16="MA",D11,0) -> 25 | O10: =IF(SalaryCheckHome!$C$16="EDSpec",E11,0) -> 0 | P10: =IF(SalaryCheckHome!$C$16="Doc",F11,0) -> 0 | Q10: =MAX(M10:P10) -> 25 | R10: =L9+SalaryCheckHome!C11 -> 2
B11: Max total years | C11: 8 | D11: 25 | E11: 25 | F11: 25 | K11: Years of Service Addition | L11: =L8*L10 -> 2082
K12: Graduate Credit Hours | L12: =MIN(Q12:U12) -> 0 | M12: =IF(SalaryCheckHome!$C$16="BA",C14,0) -> 0 | N12: =IF(SalaryCheckHome!$C$16="MA",D14,0) -> 39 | O12: =IF(SalaryCheckHome!$C$16="EDSpec",E14,0) -> 0 | P12: =IF(SalaryCheckHome!$C$16="Doc",F14,0) -> 0 | Q12: =MAX(M12:P12) -> 39 | R12: =SalaryCheckHome!G16 -> 0
B13: Per Hour | C13: =FORMULA!L3 -> 195 | D13: =FORMULA!L4 -> 290 | E13: =FORMULA!L5 -> 290 | F13: =FORMULA!L6 -> 290 | K13: Value of Graduate Credit Hours | L13: =MAX(M13:P14) -> 290 | M13: =IF(SalaryCheckHome!$C$16="BA",C13,0) -> 0 | N13: =IF(SalaryCheckHome!$C$16="MA",D13,0) -> 290 | O13: =IF(SalaryCheckHome!$C$16="EDSpec",E13,0) -> 0 | P13: =IF(SalaryCheckHome!$C$16="Doc",F13,0) -> 0
B14: Max Hours | C14: 39 | D14: 39 | E14: 3 | F14: 3 | K14: Graduate Credit Hours Addition | L14: =L13*L12 -> 0
K15: Total Formula | L15: =L14+L11+L7 -> 54392
B16: Minimum Raise | C16: 0 | K16: FTE | L16: =SalaryCheckHome!C19 -> 1 | M16: Total Days
B17: Standard Contract ## days | C17: 192 | K17: Extra Days | L17: =SalaryCheckHome!G19 -> 0 | M17: =C17+L17 -> 192
K18: Total Salary | L18: =L15*L16*(M17/C17) -> 54392 | M18: =L15*L16*(M17/C17) -> 54392
K20: Prior Year Salary | L20: =SalaryCheckHome!C7 -> 52510
K21: Formula Salary | L21: =L18 -> 54392
K22: Salary with Minimum Raise | L22: =L20+C16 -> 52510
K23: =L6 -> 2026-27 Salary | L23: =MAX(L21:L22) -> 54392 | M23: =(L23/L20)-1 -> 0.035840792
C27: BA | D27: MA | E27: EDSpec | F27: Doc | L27: =L6 -> 2026-27 Salary | M27: BA | N27: MA | O27: EDSpec | P27: Doc | Q27: Maximum | R27: Additional Hours for Salary | S27: Total Grad Hours Submitted | T27: 18-Hour Cap Check (new hours submitted for school year) | U27: Max Additional Hours to be Recognized | V27: Hours to be Credited
B28: Base Pay | C28: =C7 -> 44550 | D28: =D7 -> 52310 | E28: =E7 -> 63115 | F28: =F7 -> 63115 | K28: Base | L28: =MAX(M28:P29) -> 52310 | M28: =IF(SalaryCheckHome!$C$40="BA",C28,0) -> 0 | N28: =IF(SalaryCheckHome!$C$40="MA",D28,0) -> 52310 | O28: =IF(SalaryCheckHome!$C$40="EDSpec",E28,0) -> 0 | P28: =IF(SalaryCheckHome!$C$40="Doc",F28,0) -> 0
K29: Degree Year of Service Value | L29: =MAX(M29:P30) -> 1041 | M29: =IF(SalaryCheckHome!$C$40="BA",C30,0) -> 0 | N29: =IF(SalaryCheckHome!$C$40="MA",D30,0) -> 1041 | O29: =IF(SalaryCheckHome!$C$40="EDSpec",E30,0) -> 0 | P29: =IF(SalaryCheckHome!$C$40="Doc",F30,0) -> 0
B30: Per Year | C30: =C9 -> 465 | D30: =D9 -> 1041 | E30: =E9 -> 1061 | F30: =F9 -> 1081 | K30: Outside Years (subject to Maximum) | L30: =L9 -> 0
B31: Max. outside years | C31: =C10 -> 8 | D31: =D10 -> 13 | E31: =E10 -> 13 | F31: =F10 -> 13 | K31: Total Years (subject to maximum) | L31: =L10 -> 2
B32: Max total years | C32: =C11 -> 8 | D32: =D11 -> 25 | E32: =E11 -> 25 | F32: =F11 -> 25 | K32: Years of Service Addition | L32: =L29*L31 -> 2082
K33: Graduate Credit Hours | L33: =MIN(Q33:R33) -> 0 | M33: =IF(SalaryCheckHome!$C$40="BA",C35,0) -> 0 | N33: =IF(SalaryCheckHome!$C$40="MA",D35,0) -> 39 | O33: =IF(SalaryCheckHome!$C$40="EDSpec",E35,0) -> 0 | P33: =IF(SalaryCheckHome!$C$40="Doc",F35,0) -> 0 | Q33: =MAX(M33:P33) -> 39 | R33: =MAX(Q312,V33) -> 0 | S33: =SalaryCheckHome!G40 -> 0 | T33: =(S33-R12) -> 0 | U33: =MIN((T33+R12),(R12+18)) -> 0 | V33: =IF(U33=0,0,IF(U33>=39,39,IF(U33>=36,36,IF(U33=36,36,(IF(U33>=27,27,(IF(U33>=18,18,(IF(U33>=9,9,0)))))))))) -> 0
B34: Per Hour | C34: =C13 -> 195 | D34: =D13 -> 290 | E34: =E13 -> 290 | F34: =F13 -> 290 | K34: Value of Graduate Credit Hours | L34: =MAX(M34:P35) -> 290 | M34: =IF(SalaryCheckHome!$C$40="BA",C34,0) -> 0 | N34: =IF(SalaryCheckHome!$C$40="MA",D34,0) -> 290 | O34: =IF(SalaryCheckHome!$C$40="EDSpec",E34,0) -> 0 | P34: =IF(SalaryCheckHome!$C$40="Doc",F34,0) -> 0
B35: Max Hours | C35: =C14 -> 39 | D35: =D14 -> 39 | E35: =E14 -> 3 | F35: =F14 -> 3 | K35: Graduate Credit Hours Addition | L35: =L34*L33 -> 0
K36: Total Formula | L36: =L35+L32+L28 -> 54392
B37: Minimum Raise | C37: =C16 -> 0 | D37: =D16 -> 0 | E37: =E16 -> 0 | F37: =F16 -> 0 | K37: FTE | L37: =L16 -> 1
K38: Extra Days | L38: =L17 -> 0
K39: Total Salary | L39: =(L36*L37)+((L36/194)*L38) -> 54392
K44: =K23 -> 2026-27 Salary | L44: =MAX(L39,L23) -> 54392 | M44: =(L44/L23)-1 -> 0

Sheet Sheet2
K1: Year Hired as Teacher at MPS | L1: 2025-26
L2: 2024-25
L3: 2023-24
B4: Year Hired as Teacher at MPS 2022-23 School Year (EXTRA OUTSIDE YEARS (14)) | L4: 2022-23
C5: =C8 -> 45015 | D5: 47280 | E5: 57200 | F5: 57220 | L5: 2021-22 Or Prior
C6: BA | D6: MA | E6: EDSpec | F6: Doc | L6: 2026-27 Salary | M6: BA | N6: MA | O6: EDSpec | P6: Doc | Q6: Maximum | R6: Hours Submitted | S6: Max hours recognized for grad hours per school year | T6: 18
B7: Base Pay | C7: =FORMULA!B3 -> 44550 | D7: =FORMULA!B4 -> 52310 | E7: =FORMULA!B5 -> 63115 | F7: =FORMULA!B6 -> 63115 | K7: Base | L7: =MAX(M7:P8) -> 52310 | M7: =IF(SalaryCheckHome!$C$16="BA",C7,0) -> 0 | N7: =IF(SalaryCheckHome!$C$16="MA",D7,0) -> 52310 | O7: =IF(SalaryCheckHome!$C$16="EDSpec",E7,0) -> 0 | P7: =IF(SalaryCheckHome!$C$16="Doc",F7,0) -> 0
B8: Pay With One Year | C8: =C7+C9 -> 45015 | D8: =D7+D9 -> 53351 | E8: =E7+E9 -> 64176 | F8: =F7+F9 -> 64196 | K8: Degree Year of Service Value | L8: =MAX(M8:P9) -> 1041 | M8: =IF(SalaryCheckHome!$C$16="BA",C9,0) -> 0 | N8: =IF(SalaryCheckHome!$C$16="MA",D9,0) -> 1041 | O8: =IF(SalaryCheckHome!$C$16="EDSpec",E9,0) -> 0 | P8: =IF(SalaryCheckHome!$C$16="Doc",F9,0) -> 0
B9: Per Year | C9: =FORMULA!C3 -> 465 | D9: =FORMULA!C4 -> 1041 | E9: =FORMULA!C5 -> 1061 | F9: =FORMULA!C6 -> 1081 | K9: Outside Years (subject to Maximum) | L9: =MIN(Q9:R9) -> 0 | M9: =IF(SalaryCheckHome!$C$16="BA",C10,0) -> 0 | N9: =IF(SalaryCheckHome!$C$16="MA",D10,0) -> 14 | O9: =IF(SalaryCheckHome!$C$16="EDSpec",E10,0) -> 0 | P9: =IF(SalaryCheckHome!$C$16="Doc",F10,0) -> 0 | Q9: =MAX(M9:P9) -> 14 | R9: =SalaryCheckHome!G11 -> 0
B10: Max. outside years | C10: 8 | D10: 14 | E10: 14 | F10: 14 | K10: Total Years (subject to maximum) | L10: =MIN(Q10:R10) -> 2 | M10: =IF(SalaryCheckHome!$C$16="BA",C11,0) -> 0 | N10: =IF(SalaryCheckHome!$C$16="MA",D11,0) -> 25 | O10: =IF(SalaryCheckHome!$C$16="EDSpec",E11,0) -> 0 | P10: =IF(SalaryCheckHome!$C$16="Doc",F11,0) -> 0 | Q10: =MAX(M10:P10) -> 25 | R10: =L9+SalaryCheckHome!C11 -> 2
B11: Max total years | C11: 8 | D11: 25 | E11: 25 | F11: 25 | K11: Years of Service Addition | L11: =L8*L10 -> 2082
K12: Graduate Credit Hours | L12: =MIN(Q12:U12) -> 0 | M12: =IF(SalaryCheckHome!$C$16="BA",C14,0) -> 0 | N12: =IF(SalaryCheckHome!$C$16="MA",D14,0) -> 39 | O12: =IF(SalaryCheckHome!$C$16="EDSpec",E14,0) -> 0 | P12: =IF(SalaryCheckHome!$C$16="Doc",F14,0) -> 0 | Q12: =MAX(M12:P12) -> 39 | R12: =SalaryCheckHome!G16 -> 0
B13: Per Hour | C13: =FORMULA!L3 -> 195 | D13: =FORMULA!L4 -> 290 | E13: =FORMULA!L5 -> 290 | F13: =FORMULA!L6 -> 290 | K13: Value of Graduate Credit Hours | L13: =MAX(M13:P14) -> 290 | M13: =IF(SalaryCheckHome!$C$16="BA",C13,0) -> 0 | N13: =IF(SalaryCheckHome!$C$16="MA",D13,0) -> 290 | O13: =IF(SalaryCheckHome!$C$16="EDSpec",E13,0) -> 0 | P13: =IF(SalaryCheckHome!$C$16="Doc",F13,0) -> 0
B14: Max Hours | C14: 39 | D14: 39 | E14: 3 | F14: 3 | K14: Graduate Credit Hours Addition | L14: =L13*L12 -> 0
K15: Total Formula | L15: =L14+L11+L7 -> 54392
B16: Minimum Raise | C16: 0 | K16: FTE | L16: =SalaryCheckHome!C19 -> 1 | M16: Total Days
B17: Standard Contract ## days | C17: 192 | K17: Extra Days | L17: =SalaryCheckHome!G19 -> 0 | M17: =C17+L17 -> 192
K18: Total Salary | L18: =L15*L16*(M17/C17) -> 54392 | M18: =L15*L16*(M17/C17) -> 54392
K20: Prior Year Salary | L20: =SalaryCheckHome!C7 -> 52510
K21: Formula Salary | L21: =L18 -> 54392
K22: Salary with Minimum Raise | L22: =L20+C16 -> 52510
K23: =L6 -> 2026-27 Salary | L23: =MAX(L21:L22) -> 54392 | M23: =(L23/L20)-1 -> 0.035840792
C27: BA | D27: MA | E27: EDSpec | F27: Doc | L27: =L6 -> 2026-27 Salary | M27: BA | N27: MA | O27: EDSpec | P27: Doc | Q27: Maximum | R27: Additional Hours for Salary | S27: Total Grad Hours Submitted | T27: 18-Hour Cap Check (new hours submitted for school year) | U27: Max Additional Hours to be Recognized | V27: Hours to be Credited
B28: Base Pay | C28: =C7 -> 44550 | D28: =D7 -> 52310 | E28: =E7 -> 63115 | F28: =F7 -> 63115 | K28: Base | L28: =MAX(M28:P29) -> 52310 | M28: =IF(SalaryCheckHome!$C$40="BA",C28,0) -> 0 | N28: =IF(SalaryCheckHome!$C$40="MA",D28,0) -> 52310 | O28: =IF(SalaryCheckHome!$C$40="EDSpec",E28,0) -> 0 | P28: =IF(SalaryCheckHome!$C$40="Doc",F28,0) -> 0
K29: Degree Year of Service Value | L29: =MAX(M29:P30) -> 1041 | M29: =IF(SalaryCheckHome!$C$40="BA",C30,0) -> 0 | N29: =IF(SalaryCheckHome!$C$40="MA",D30,0) -> 1041 | O29: =IF(SalaryCheckHome!$C$40="EDSpec",E30,0) -> 0 | P29: =IF(SalaryCheckHome!$C$40="Doc",F30,0) -> 0
B30: Per Year | C30: =C9 -> 465 | D30: =D9 -> 1041 | E30: =E9 -> 1061 | F30: =F9 -> 1081 | K30: Outside Years (subject to Maximum) | L30: =L9 -> 0
B31: Max. outside years | C31: =C10 -> 8 | D31: =D10 -> 14 | E31: =E10 -> 14 | F31: =F10 -> 14 | K31: Total Years (subject to maximum) | L31: =L10 -> 2
B32: Max total years | C32: =C11 -> 8 | D32: =D11 -> 25 | E32: =E11 -> 25 | F32: =F11 -> 25 | K32: Years of Service Addition | L32: =L29*L31 -> 2082
K33: Graduate Credit Hours | L33: =MIN(Q33:R33) -> 0 | M33: =IF(SalaryCheckHome!$C$40="BA",C35,0) -> 0 | N33: =IF(SalaryCheckHome!$C$40="MA",D35,0) -> 39 | O33: =IF(SalaryCheckHome!$C$40="EDSpec",E35,0) -> 0 | P33: =IF(SalaryCheckHome!$C$40="Doc",F35,0) -> 0 | Q33: =MAX(M33:P33) -> 39 | R33: =MAX(Q312,V33) -> 0 | S33: =SalaryCheckHome!G40 -> 0 | T33: =(S33-R12) -> 0 | U33: =MIN((T33+R12),(R12+18)) -> 0 | V33: =IF(U33=0,0,IF(U33>=39,39,IF(U33>=36,36,IF(U33=36,36,(IF(U33>=27,27,(IF(U33>=18,18,(IF(U33>=9,9,0)))))))))) -> 0
B34: Per Hour | C34: =C13 -> 195 | D34: =D13 -> 290 | E34: =E13 -> 290 | F34: =F13 -> 290 | K34: Value of Graduate Credit Hours | L34: =MAX(M34:P35) -> 290 | M34: =IF(SalaryCheckHome!$C$40="BA",C34,0) -> 0 | N34: =IF(SalaryCheckHome!$C$40="MA",D34,0) -> 290 | O34: =IF(SalaryCheckHome!$C$40="EDSpec",E34,0) -> 0 | P34: =IF(SalaryCheckHome!$C$40="Doc",F34,0) -> 0
B35: Max Hours | C35: =C14 -> 39 | D35: =D14 -> 39 | E35: =E14 -> 3 | F35: =F14 -> 3 | K35: Graduate Credit Hours Addition | L35: =L34*L33 -> 0
K36: Total Formula | L36: =L35+L32+L28 -> 54392
B37: Minimum Raise | C37: =C16 -> 0 | D37: =D16 -> 0 | E37: =E16 -> 0 | F37: =F16 -> 0 | K37: FTE | L37: =L16 -> 1
K38: Extra Days | L38: =L17 -> 0
K39: Total Salary | L39: =(L36*L37)+((L36/194)*L38) -> 54392
K44: =K23 -> 2026-27 Salary | L44: =MAX(L39,L23) -> 54392 | M44: =(L44/L23)-1 -> 0

Sheet Sheet3
K1: Year Hired as Teacher at MPS | L1: 2025-26
L2: 2024-25
L3: 2023-24
B4: Year Hired as Teacher at MPS 2023-24 School Year (EXTRA OUTSIDE YEARS (15)) | L4: 2022-23
C5: =C8 -> 45015 | D5: 47280 | E5: 57200 | F5: 57220 | L5: 2021-22 Or Prior
C6: BA | D6: MA | E6: EDSpec | F6: Doc | L6: 2026-27 Salary | M6: BA | N6: MA | O6: EDSpec | P6: Doc | Q6: Maximum | R6: Hours Submitted | S6: Max hours recognized for grad hours per school year | T6: 18
B7: Base Pay | C7: =FORMULA!B3 -> 44550 | D7: =FORMULA!B4 -> 52310 | E7: =FORMULA!B5 -> 63115 | F7: =FORMULA!B6 -> 63115 | K7: Base | L7: =MAX(M7:P8) -> 52310 | M7: =IF(SalaryCheckHome!$C$16="BA",C7,0) -> 0 | N7: =IF(SalaryCheckHome!$C$16="MA",D7,0) -> 52310 | O7: =IF(SalaryCheckHome!$C$16="EDSpec",E7,0) -> 0 | P7: =IF(SalaryCheckHome!$C$16="Doc",F7,0) -> 0
B8: Pay With One Year | C8: =C7+C9 -> 45015 | D8: =D7+D9 -> 53351 | E8: =E7+E9 -> 64176 | F8: =F7+F9 -> 64196 | K8: Degree Year of Service Value | L8: =MAX(M8:P9) -> 1041 | M8: =IF(SalaryCheckHome!$C$16="BA",C9,0) -> 0 | N8: =IF(SalaryCheckHome!$C$16="MA",D9,0) -> 1041 | O8: =IF(SalaryCheckHome!$C$16="EDSpec",E9,0) -> 0 | P8: =IF(SalaryCheckHome!$C$16="Doc",F9,0) -> 0
B9: Per Year | C9: =FORMULA!C3 -> 465 | D9: =FORMULA!C4 -> 1041 | E9: =FORMULA!C5 -> 1061 | F9: =FORMULA!C6 -> 1081 | K9: Outside Years (subject to Maximum) | L9: =MIN(Q9:R9) -> 0 | M9: =IF(SalaryCheckHome!$C$16="BA",C10,0) -> 0 | N9: =IF(SalaryCheckHome!$C$16="MA",D10,0) -> 15 | O9: =IF(SalaryCheckHome!$C$16="EDSpec",E10,0) -> 0 | P9: =IF(SalaryCheckHome!$C$16="Doc",F10,0) -> 0 | Q9: =MAX(M9:P9) -> 15 | R9: =SalaryCheckHome!G11 -> 0
B10: Max. outside years | C10: 8 | D10: 15 | E10: 15 | F10: 15 | K10: Total Years (subject to maximum) | L10: =MIN(Q10:R10) -> 2 | M10: =IF(SalaryCheckHome!$C$16="BA",C11,0) -> 0 | N10: =IF(SalaryCheckHome!$C$16="MA",D11,0) -> 25 | O10: =IF(SalaryCheckHome!$C$16="EDSpec",E11,0) -> 0 | P10: =IF(SalaryCheckHome!$C$16="Doc",F11,0) -> 0 | Q10: =MAX(M10:P10) -> 25 | R10: =L9+SalaryCheckHome!C11 -> 2
B11: Max total years | C11: 8 | D11: 25 | E11: 25 | F11: 25 | K11: Years of Service Addition | L11: =L8*L10 -> 2082
K12: Graduate Credit Hours | L12: =MIN(Q12:U12) -> 0 | M12: =IF(SalaryCheckHome!$C$16="BA",C14,0) -> 0 | N12: =IF(SalaryCheckHome!$C$16="MA",D14,0) -> 39 | O12: =IF(SalaryCheckHome!$C$16="EDSpec",E14,0) -> 0 | P12: =IF(SalaryCheckHome!$C$16="Doc",F14,0) -> 0 | Q12: =MAX(M12:P12) -> 39 | R12: =SalaryCheckHome!G16 -> 0
B13: Per Hour | C13: =FORMULA!L3 -> 195 | D13: =FORMULA!L4 -> 290 | E13: =FORMULA!L5 -> 290 | F13: =FORMULA!L6 -> 290 | K13: Value of Graduate Credit Hours | L13: =MAX(M13:P14) -> 290 | M13: =IF(SalaryCheckHome!$C$16="BA",C13,0) -> 0 | N13: =IF(SalaryCheckHome!$C$16="MA",D13,0) -> 290 | O13: =IF(SalaryCheckHome!$C$16="EDSpec",E13,0) -> 0 | P13: =IF(SalaryCheckHome!$C$16="Doc",F13,0) -> 0
B14: Max Hours | C14: 39 | D14: 39 | E14: 3 | F14: 3 | K14: Graduate Credit Hours Addition | L14: =L13*L12 -> 0
K15: Total Formula | L15: =L14+L11+L7 -> 54392
B16: Minimum Raise | C16: 0 | K16: FTE | L16: =SalaryCheckHome!C19 -> 1 | M16: Total Days
B17: Standard Contract ## days | C17: 192 | K17: Extra Days | L17: =SalaryCheckHome!G19 -> 0 | M17: =C17+L17 -> 192
K18: Total Salary | L18: =L15*L16*(M17/C17) -> 54392 | M18: =L15*L16*(M17/C17) -> 54392
K20: Prior Year Salary | L20: =SalaryCheckHome!C7 -> 52510
K21: Formula Salary | L21: =L18 -> 54392
K22: Salary with Minimum Raise | L22: =L20+C16 -> 52510
K23: =L6 -> 2026-27 Salary | L23: =MAX(L21:L22) -> 54392 | M23: =(L23/L20)-1 -> 0.035840792
C27: BA | D27: MA | E27: EDSpec | F27: Doc | L27: =L6 -> 2026-27 Salary | M27: BA | N27: MA | O27: EDSpec | P27: Doc | Q27: Maximum | R27: Additional Hours for Salary | S27: Total Grad Hours Submitted | T27: 18-Hour Cap Check (new hours submitted for school year) | U27: Max Additional Hours to be Recognized | V27: Hours to be Credited
B28: Base Pay | C28: =C7 -> 44550 | D28: =D7 -> 52310 | E28: =E7 -> 63115 | F28: =F7 -> 63115 | K28: Base | L28: =MAX(M28:P29) -> 52310 | M28: =IF(SalaryCheckHome!$C$40="BA",C28,0) -> 0 | N28: =IF(SalaryCheckHome!$C$40="MA",D28,0) -> 52310 | O28: =IF(SalaryCheckHome!$C$40="EDSpec",E28,0) -> 0 | P28: =IF(SalaryCheckHome!$C$40="Doc",F28,0) -> 0
K29: Degree Year of Service Value | L29: =MAX(M29:P30) -> 1041 | M29: =IF(SalaryCheckHome!$C$40="BA",C30,0) -> 0 | N29: =IF(SalaryCheckHome!$C$40="MA",D30,0) -> 1041 | O29: =IF(SalaryCheckHome!$C$40="EDSpec",E30,0) -> 0 | P29: =IF(SalaryCheckHome!$C$40="Doc",F30,0) -> 0
B30: Per Year | C30: =C9 -> 465 | D30: =D9 -> 1041 | E30: =E9 -> 1061 | F30: =F9 -> 1081 | K30: Outside Years (subject to Maximum) | L30: =L9 -> 0
B31: Max. outside years | C31: =C10 -> 8 | D31: =D10 -> 15 | E31: =E10 -> 15 | F31: =F10 -> 15 | K31: Total Years (subject to maximum) | L31: =L10 -> 2
B32: Max total years | C32: =C11 -> 8 | D32: =D11 -> 25 | E32: =E11 -> 25 | F32: =F11 -> 25 | K32: Years of Service Addition | L32: =L29*L31 -> 2082
K33: Graduate Credit Hours | L33: =MIN(Q33:R33) -> 0 | M33: =IF(SalaryCheckHome!$C$40="BA",C35,0) -> 0 | N33: =IF(SalaryCheckHome!$C$40="MA",D35,0) -> 39 | O33: =IF(SalaryCheckHome!$C$40="EDSpec",E35,0) -> 0 | P33: =IF(SalaryCheckHome!$C$40="Doc",F35,0) -> 0 | Q33: =MAX(M33:P33) -> 39 | R33: =MAX(Q312,V33) -> 0 | S33: =SalaryCheckHome!G40 -> 0 | T33: =(S33-R12) -> 0 | U33: =MIN((T33+R12),(R12+18)) -> 0 | V33: =IF(U33=0,0,IF(U33>=39,39,IF(U33>=36,36,IF(U33=36,36,(IF(U33>=27,27,(IF(U33>=18,18,(IF(U33>=9,9,0)))))))))) -> 0
B34: Per Hour | C34: =C13 -> 195 | D34: =D13 -> 290 | E34: =E13 -> 290 | F34: =F13 -> 290 | K34: Value of Graduate Credit Hours | L34: =MAX(M34:P35) -> 290 | M34: =IF(SalaryCheckHome!$C$40="BA",C34,0) -> 0 | N34: =IF(SalaryCheckHome!$C$40="MA",D34,0) -> 290 | O34: =IF(SalaryCheckHome!$C$40="EDSpec",E34,0) -> 0 | P34: =IF(SalaryCheckHome!$C$40="Doc",F34,0) -> 0
B35: Max Hours | C35: =C14 -> 39 | D35: =D14 -> 39 | E35: =E14 -> 3 | F35: =F14 -> 3 | K35: Graduate Credit Hours Addition | L35: =L34*L33 -> 0
K36: Total Formula | L36: =L35+L32+L28 -> 54392
B37: Minimum Raise | C37: =C16 -> 0 | D37: =D16 -> 0 | E37: =E16 -> 0 | F37: =F16 -> 0 | K37: FTE | L37: =L16 -> 1
K38: Extra Days | L38: =L17 -> 0
K39: Total Salary | L39: =(L36*L37)+((L36/194)*L38) -> 54392
K44: =K23 -> 2026-27 Salary | L44: =MAX(L39,L23) -> 54392 | M44: =(L44/L23)-1 -> 0

Sheet Sheet4
K1: Year Hired as Teacher at MPS | L1: 2025-26
L2: 2024-25
L3: 2023-24
B4: Year Hired as Teacher at MPS 2024-25 School Year (EXTRA OUTSIDE YEARS (16)) | L4: 2022-23
C5: =C8 -> 45015 | D5: 47280 | E5: 57200 | F5: 57220 | L5: 2021-22 Or Prior
C6: BA | D6: MA | E6: EDSpec | F6: Doc | L6: 2026-27 Salary | M6: BA | N6: MA | O6: EDSpec | P6: Doc | Q6: Maximum | R6: Hours Submitted | S6: Max hours recognized for grad hours per school year | T6: 18
B7: Base Pay | C7: =FORMULA!B3 -> 44550 | D7: =FORMULA!B4 -> 52310 | E7: =FORMULA!B5 -> 63115 | F7: =FORMULA!B6 -> 63115 | K7: Base | L7: =MAX(M7:P8) -> 52310 | M7: =IF(SalaryCheckHome!$C$16="BA",C7,0) -> 0 | N7: =IF(SalaryCheckHome!$C$16="MA",D7,0) -> 52310 | O7: =IF(SalaryCheckHome!$C$16="EDSpec",E7,0) -> 0 | P7: =IF(SalaryCheckHome!$C$16="Doc",F7,0) -> 0
B8: Pay With One Year | C8: =C7+C9 -> 45015 | D8: =D7+D9 -> 53351 | E8: =E7+E9 -> 64176 | F8: =F7+F9 -> 64196 | K8: Degree Year of Service Value | L8: =MAX(M8:P9) -> 1041 | M8: =IF(SalaryCheckHome!$C$16="BA",C9,0) -> 0 | N8: =IF(SalaryCheckHome!$C$16="MA",D9,0) -> 1041 | O8: =IF(SalaryCheckHome!$C$16="EDSpec",E9,0) -> 0 | P8: =IF(SalaryCheckHome!$C$16="Doc",F9,0) -> 0
B9: Per Year | C9: =FORMULA!C3 -> 465 | D9: =FORMULA!C4 -> 1041 | E9: =FORMULA!C5 -> 1061 | F9: =FORMULA!C6 -> 1081 | K9: Outside Years (subject to Maximum) | L9: =MIN(Q9:R9) -> 0 | M9: =IF(SalaryCheckHome!$C$16="BA",C10,0) -> 0 | N9: =IF(SalaryCheckHome!$C$16="MA",D10,0) -> 16 | O9: =IF(SalaryCheckHome!$C$16="EDSpec",E10,0) -> 0 | P9: =IF(SalaryCheckHome!$C$16="Doc",F10,0) -> 0 | Q9: =MAX(M9:P9) -> 16 | R9: =SalaryCheckHome!G11 -> 0
B10: Max. outside years | C10: 8 | D10: 16 | E10: 16 | F10: 16 | K10: Total Years (subject to maximum) | L10: =MIN(Q10:R10) -> 2 | M10: =IF(SalaryCheckHome!$C$16="BA",C11,0) -> 0 | N10: =IF(SalaryCheckHome!$C$16="MA",D11,0) -> 25 | O10: =IF(SalaryCheckHome!$C$16="EDSpec",E11,0) -> 0 | P10: =IF(SalaryCheckHome!$C$16="Doc",F11,0) -> 0 | Q10: =MAX(M10:P10) -> 25 | R10: =L9+SalaryCheckHome!C11 -> 2
B11: Max total years | C11: 8 | D11: 25 | E11: 25 | F11: 25 | K11: Years of Service Addition | L11: =L8*L10 -> 2082
K12: Graduate Credit Hours | L12: =MIN(Q12:U12) -> 0 | M12: =IF(SalaryCheckHome!$C$16="BA",C14,0) -> 0 | N12: =IF(SalaryCheckHome!$C$16="MA",D14,0) -> 39 | O12: =IF(SalaryCheckHome!$C$16="EDSpec",E14,0) -> 0 | P12: =IF(SalaryCheckHome!$C$16="Doc",F14,0) -> 0 | Q12: =MAX(M12:P12) -> 39 | R12: =SalaryCheckHome!G16 -> 0
B13: Per Hour | C13: =FORMULA!L3 -> 195 | D13: =FORMULA!L4 -> 290 | E13: =FORMULA!L5 -> 290 | F13: =FORMULA!L6 -> 290 | K13: Value of Graduate Credit Hours | L13: =MAX(M13:P14) -> 290 | M13: =IF(SalaryCheckHome!$C$16="BA",C13,0) -> 0 | N13: =IF(SalaryCheckHome!$C$16="MA",D13,0) -> 290 | O13: =IF(SalaryCheckHome!$C$16="EDSpec",E13,0) -> 0 | P13: =IF(SalaryCheckHome!$C$16="Doc",F13,0) -> 0
B14: Max Hours | C14: 39 | D14: 39 | E14: 3 | F14: 3 | K14: Graduate Credit Hours Addition | L14: =L13*L12 -> 0
K15: Total Formula | L15: =L14+L11+L7 -> 54392
B16: Minimum Raise | C16: 0 | K16: FTE | L16: =SalaryCheckHome!C19 -> 1 | M16: Total Days
B17: Standard Contract ## days | C17: 192 | K17: Extra Days | L17: =SalaryCheckHome!G19 -> 0 | M17: =C17+L17 -> 192
K18: Total Salary | L18: =L15*L16*(M17/C17) -> 54392 | M18: =L15*L16*(M17/C17) -> 54392
K20: Prior Year Salary | L20: =SalaryCheckHome!C7 -> 52510
K21: Formula Salary | L21: =L18 -> 54392
K22: Salary with Minimum Raise | L22: =L20+C16 -> 52510
K23: =L6 -> 2026-27 Salary | L23: =MAX(L21:L22) -> 54392 | M23: =(L23/L20)-1 -> 0.035840792
C27: BA | D27: MA | E27: EDSpec | F27: Doc | L27: =L6 -> 2026-27 Salary | M27: BA | N27: MA | O27: EDSpec | P27: Doc | Q27: Maximum | R27: Additional Hours for Salary | S27: Total Grad Hours Submitted | T27: 18-Hour Cap Check (new hours submitted for school year) | U27: Max Additional Hours to be Recognized | V27: Hours to be Credited
B28: Base Pay | C28: =C7 -> 44550 | D28: =D7 -> 52310 | E28: =E7 -> 63115 | F28: =F7 -> 63115 | K28: Base | L28: =MAX(M28:P29) -> 52310 | M28: =IF(SalaryCheckHome!$C$40="BA",C28,0) -> 0 | N28: =IF(SalaryCheckHome!$C$40="MA",D28,0) -> 52310 | O28: =IF(SalaryCheckHome!$C$40="EDSpec",E28,0) -> 0 | P28: =IF(SalaryCheckHome!$C$40="Doc",F28,0) -> 0
K29: Degree Year of Service Value | L29: =MAX(M29:P30) -> 1041 | M29: =IF(SalaryCheckHome!$C$40="BA",C30,0) -> 0 | N29: =IF(SalaryCheckHome!$C$40="MA",D30,0) -> 1041 | O29: =IF(SalaryCheckHome!$C$40="EDSpec",E30,0) -> 0 | P29: =IF(SalaryCheckHome!$C$40="Doc",F30,0) -> 0
B30: Per Year | C30: =C9 -> 465 | D30: =D9 -> 1041 | E30: =E9 -> 1061 | F30: =F9 -> 1081 | K30: Outside Years (subject to Maximum) | L30: =L9 -> 0
B31: Max. outside years | C31: =C10 -> 8 | D31: =D10 -> 16 | E31: =E10 -> 16 | F31: =F10 -> 16 | K31: Total Years (subject to maximum) | L31: =L10 -> 2
B32: Max total years | C32: =C11 -> 8 | D32: =D11 -> 25 | E32: =E11 -> 25 | F32: =F11 -> 25 | K32: Years of Service Addition | L32: =L29*L31 -> 2082
K33: Graduate Credit Hours | L33: =MIN(Q33:R33) -> 0 | M33: =IF(SalaryCheckHome!$C$40="BA",C35,0) -> 0 | N33: =IF(SalaryCheckHome!$C$40="MA",D35,0) -> 39 | O33: =IF(SalaryCheckHome!$C$40="EDSpec",E35,0) -> 0 | P33: =IF(SalaryCheckHome!$C$40="Doc",F35,0) -> 0 | Q33: =MAX(M33:P33) -> 39 | R33: =MAX(Q312,V33) -> 0 | S33: =SalaryCheckHome!G40 -> 0 | T33: =(S33-R12) -> 0 | U33: =MIN((T33+R12),(R12+18)) -> 0 | V33: =IF(U33=0,0,IF(U33>=39,39,IF(U33>=36,36,IF(U33=36,36,(IF(U33>=27,27,(IF(U33>=18,18,(IF(U33>=9,9,0)))))))))) -> 0
B34: Per Hour | C34: =C13 -> 195 | D34: =D13 -> 290 | E34: =E13 -> 290 | F34: =F13 -> 290 | K34: Value of Graduate Credit Hours | L34: =MAX(M34:P35) -> 290 | M34: =IF(SalaryCheckHome!$C$40="BA",C34,0) -> 0 | N34: =IF(SalaryCheckHome!$C$40="MA",D34,0) -> 290 | O34: =IF(SalaryCheckHome!$C$40="EDSpec",E34,0) -> 0 | P34: =IF(SalaryCheckHome!$C$40="Doc",F34,0) -> 0
B35: Max Hours | C35: =C14 -> 39 | D35: =D14 -> 39 | E35: =E14 -> 3 | F35: =F14 -> 3 | K35: Graduate Credit Hours Addition | L35: =L34*L33 -> 0
K36: Total Formula | L36: =L35+L32+L28 -> 54392
B37: Minimum Raise | C37: =C16 -> 0 | D37: =D16 -> 0 | E37: =E16 -> 0 | F37: =F16 -> 0 | K37: FTE | L37: =L16 -> 1
K38: Extra Days | L38: =L17 -> 0
K39: Total Salary | L39: =(L36*L37)+((L36/194)*L38) -> 54392
K44: =K23 -> 2026-27 Salary | L44: =MAX(L39,L23) -> 54392 | M44: =(L44/L23)-1 -> 0

Sheet Sheet5
K1: Year Hired as Teacher at MPS | L1: 2025-26
L2: 2024-25
L3: 2023-24
B4: Year Hired as Teacher at MPS 2025-26 School Year (EXTRA OUTSIDE YEARS (17)) | L4: 2022-23
C5: =C8 -> 45015 | D5: 47280 | E5: 57200 | F5: 57220 | L5: 2021-22 Or Prior
C6: BA | D6: MA | E6: EDSpec | F6: Doc | L6: 2026-27 Salary | M6: BA | N6: MA | O6: EDSpec | P6: Doc | Q6: Maximum | R6: Hours Submitted | S6: Max hours recognized for grad hours per school year | T6: 18
B7: Base Pay | C7: =FORMULA!B3 -> 44550 | D7: =FORMULA!B4 -> 52310 | E7: =FORMULA!B5 -> 63115 | F7: =FORMULA!B6 -> 63115 | K7: Base | L7: =MAX(M7:P8) -> 52310 | M7: =IF(SalaryCheckHome!$C$16="BA",C7,0) -> 0 | N7: =IF(SalaryCheckHome!$C$16="MA",D7,0) -> 52310 | O7: =IF(SalaryCheckHome!$C$16="EDSpec",E7,0) -> 0 | P7: =IF(SalaryCheckHome!$C$16="Doc",F7,0) -> 0
B8: Pay With One Year | C8: =C7+C9 -> 45015 | D8: =D7+D9 -> 53351 | E8: =E7+E9 -> 64176 | F8: =F7+F9 -> 64196 | K8: Degree Year of Service Value | L8: =MAX(M8:P9) -> 1041 | M8: =IF(SalaryCheckHome!$C$16="BA",C9,0) -> 0 | N8: =IF(SalaryCheckHome!$C$16="MA",D9,0) -> 1041 | O8: =IF(SalaryCheckHome!$C$16="EDSpec",E9,0) -> 0 | P8: =IF(SalaryCheckHome!$C$16="Doc",F9,0) -> 0
B9: Per Year | C9: =FORMULA!C3 -> 465 | D9: =FORMULA!C4 -> 1041 | E9: =FORMULA!C5 -> 1061 | F9: =FORMULA!C6 -> 1081 | K9: Outside Years (subject to Maximum) | L9: =MIN(Q9:R9) -> 0 | M9: =IF(SalaryCheckHome!$C$16="BA",C10,0) -> 0 | N9: =IF(SalaryCheckHome!$C$16="MA",D10,0) -> 17 | O9: =IF(SalaryCheckHome!$C$16="EDSpec",E10,0) -> 0 | P9: =IF(SalaryCheckHome!$C$16="Doc",F10,0) -> 0 | Q9: =MAX(M9:P9) -> 17 | R9: =SalaryCheckHome!G11 -> 0
B10: Max. outside years | C10: 8 | D10: 17 | E10: 17 | F10: 17 | K10: Total Years (subject to maximum) | L10: =MIN(Q10:R10) -> 2 | M10: =IF(SalaryCheckHome!$C$16="BA",C11,0) -> 0 | N10: =IF(SalaryCheckHome!$C$16="MA",D11,0) -> 25 | O10: =IF(SalaryCheckHome!$C$16="EDSpec",E11,0) -> 0 | P10: =IF(SalaryCheckHome!$C$16="Doc",F11,0) -> 0 | Q10: =MAX(M10:P10) -> 25 | R10: =L9+SalaryCheckHome!C11 -> 2
B11: Max total years | C11: 8 | D11: 25 | E11: 25 | F11: 25 | K11: Years of Service Addition | L11: =L8*L10 -> 2082
K12: Graduate Credit Hours | L12: =MIN(Q12:U12) -> 0 | M12: =IF(SalaryCheckHome!$C$16="BA",C14,0) -> 0 | N12: =IF(SalaryCheckHome!$C$16="MA",D14,0) -> 39 | O12: =IF(SalaryCheckHome!$C$16="EDSpec",E14,0) -> 0 | P12: =IF(SalaryCheckHome!$C$16="Doc",F14,0) -> 0 | Q12: =MAX(M12:P12) -> 39 | R12: =SalaryCheckHome!G16 -> 0
B13: Per Hour | C13: =FORMULA!L3 -> 195 | D13: =FORMULA!L4 -> 290 | E13: =FORMULA!L5 -> 290 | F13: =FORMULA!L6 -> 290 | K13: Value of Graduate Credit Hours | L13: =MAX(M13:P14) -> 290 | M13: =IF(SalaryCheckHome!$C$16="BA",C13,0) -> 0 | N13: =IF(SalaryCheckHome!$C$16="MA",D13,0) -> 290 | O13: =IF(SalaryCheckHome!$C$16="EDSpec",E13,0) -> 0 | P13: =IF(SalaryCheckHome!$C$16="Doc",F13,0) -> 0
B14: Max Hours | C14: 39 | D14: 39 | E14: 3 | F14: 3 | K14: Graduate Credit Hours Addition | L14: =L13*L12 -> 0
K15: Total Formula | L15: =L14+L11+L7 -> 54392
B16: Minimum Raise | C16: 0 | K16: FTE | L16: =SalaryCheckHome!C19 -> 1 | M16: Total Days
B17: Standard Contract ## days | C17: 192 | K17: Extra Days | L17: =SalaryCheckHome!G19 -> 0 | M17: =C17+L17 -> 192
K18: Total Salary | L18: =L15*L16*(M17/C17) -> 54392 | M18: =L15*L16*(M17/C17) -> 54392
K20: Prior Year Salary | L20: =SalaryCheckHome!C7 -> 52510
K21: Formula Salary | L21: =L18 -> 54392
K22: Salary with Minimum Raise | L22: =L20+C16 -> 52510
K23: =L6 -> 2026-27 Salary | L23: =MAX(L21:L22) -> 54392 | M23: =(L23/L20)-1 -> 0.035840792
C27: BA | D27: MA | E27: EDSpec | F27: Doc | L27: =L6 -> 2026-27 Salary | M27: BA | N27: MA | O27: EDSpec | P27: Doc | Q27: Maximum | R27: Additional Hours for Salary | S27: Total Grad Hours Submitted | T27: 18-Hour Cap Check (new hours submitted for school year) | U27: Max Additional Hours to be Recognized | V27: Hours to be Credited
B28: Base Pay | C28: =C7 -> 44550 | D28: =D7 -> 52310 | E28: =E7 -> 63115 | F28: =F7 -> 63115 | K28: Base | L28: =MAX(M28:P29) -> 52310 | M28: =IF(SalaryCheckHome!$C$40="BA",C28,0) -> 0 | N28: =IF(SalaryCheckHome!$C$40="MA",D28,0) -> 52310 | O28: =IF(SalaryCheckHome!$C$40="EDSpec",E28,0) -> 0 | P28: =IF(SalaryCheckHome!$C$40="Doc",F28,0) -> 0
K29: Degree Year of Service Value | L29: =MAX(M29:P30) -> 1041 | M29: =IF(SalaryCheckHome!$C$40="BA",C30,0) -> 0 | N29: =IF(SalaryCheckHome!$C$40="MA",D30,0) -> 1041 | O29: =IF(SalaryCheckHome!$C$40="EDSpec",E30,0) -> 0 | P29: =IF(SalaryCheckHome!$C$40="Doc",F30,0) -> 0
B30: Per Year | C30: =C9 -> 465 | D30: =D9 -> 1041 | E30: =E9 -> 1061 | F30: =F9 -> 1081 | K30: Outside Years (subject to Maximum) | L30: =L9 -> 0
B31: Max. outside years | C31: =C10 -> 8 | D31: =D10 -> 17 | E31: =E10 -> 17 | F31: =F10 -> 17 | K31: Total Years (subject to maximum) | L31: =L10 -> 2
B32: Max total years | C32: =C11 -> 8 | D32: =D11 -> 25 | E32: =E11 -> 25 | F32: =F11 -> 25 | K32: Years of Service Addition | L32: =L29*L31 -> 2082
K33: Graduate Credit Hours | L33: =MIN(Q33:R33) -> 0 | M33: =IF(SalaryCheckHome!$C$40="BA",C35,0) -> 0 | N33: =IF(SalaryCheckHome!$C$40="MA",D35,0) -> 39 | O33: =IF(SalaryCheckHome!$C$40="EDSpec",E35,0) -> 0 | P33: =IF(SalaryCheckHome!$C$40="Doc",F35,0) -> 0 | Q33: =MAX(M33:P33) -> 39 | R33: =MAX(Q312,V33) -> 0 | S33: =SalaryCheckHome!G40 -> 0 | T33: =(S33-R12) -> 0 | U33: =MIN((T33+R12),(R12+18)) -> 0 | V33: =IF(U33=0,0,IF(U33>=39,39,IF(U33>=36,36,IF(U33=36,36,(IF(U33>=27,27,(IF(U33>=18,18,(IF(U33>=9,9,0)))))))))) -> 0
B34: Per Hour | C34: =C13 -> 195 | D34: =D13 -> 290 | E34: =E13 -> 290 | F34: =F13 -> 290 | K34: Value of Graduate Credit Hours | L34: =MAX(M34:P35) -> 290 | M34: =IF(SalaryCheckHome!$C$40="BA",C34,0) -> 0 | N34: =IF(SalaryCheckHome!$C$40="MA",D34,0) -> 290 | O34: =IF(SalaryCheckHome!$C$40="EDSpec",E34,0) -> 0 | P34: =IF(SalaryCheckHome!$C$40="Doc",F34,0) -> 0
B35: Max Hours | C35: =C14 -> 39 | D35: =D14 -> 39 | E35: =E14 -> 3 | F35: =F14 -> 3 | K35: Graduate Credit Hours Addition | L35: =L34*L33 -> 0
K36: Total Formula | L36: =L35+L32+L28 -> 54392
B37: Minimum Raise | C37: =C16 -> 0 | D37: =D16 -> 0 | E37: =E16 -> 0 | F37: =F16 -> 0 | K37: FTE | L37: =L16 -> 1
K38: Extra Days | L38: =L17 -> 0
K39: Total Salary | L39: =(L36*L37)+((L36/194)*L38) -> 54392
K44: 2024-25 Salary | L44: =MAX(L39,L23) -> 54392 | M44: =(L44/L23)-1 -> 0
